BEGIN:VCALENDAR
VERSION:2.0
PRODID:-//Stratis iCal API//FR
CALSCALE:GREGORIAN
X-WR-CALNAME:Jeux de Sophia - Col de Gréolières 1400
BEGIN:VEVENT
UID:event-3405
SUMMARY:Jeux de Sophia - Col de Gréolières 1400
DESCRIPTION:ÉPREUVE EXCLUSIVEMENT RÉSERVÉE AUX PARTICIPANTS DES JEUX DE SOPHIA.
DTSTAMP:20260320T151945Z
DTSTART:20260518T220000Z
DTEND:20260521T220000Z
STATUS:CONFIRMED
SEQUENCE:5
BEGIN:VALARM
TRIGGER:-PT30M
DESCRIPTION:Jeux de Sophia - Col de Gréolières 1400
ACTION:DISPLAY
END:VALARM
END:VEVENT
END:VCALENDAR