BEGIN:VCALENDAR
VERSION:2.0
PRODID:-//Stratis iCal API//FR
CALSCALE:GREGORIAN
X-WR-CALNAME:Initiation à la pêche : la connaissance des poissons carnassiers
BEGIN:VEVENT
UID:event-2859
SUMMARY:Initiation à la pêche : la connaissance des poissons carnassiers
DESCRIPTION:Poissons nageurs  leurres métalliques sont des armes redoutables pour décider tous ces carnassiers  qui rodent dans nos eaux de 2ème catégorie et dont les spécificités et leur mode vie vont vous étonner ! Venez maîtriser les différentes familles de leurres  la gestuelle des lancers qui vous permettrons d’atteindre leurs cachettes. Les Brochets n’auront plus qu’à bien se tenir !    Animation réalisée par la Fédération Départementale des Associations Agrées de Pêche et de Protection Milieux Aquatiques.
DTSTAMP:20250625T134211Z
DTSTART:20250920T070000Z
DTEND:20250920T110000Z
STATUS:CONFIRMED
SEQUENCE:3
BEGIN:VALARM
TRIGGER:-PT30M
DESCRIPTION:Initiation à la pêche : la connaissance des poissons carnassiers
ACTION:DISPLAY
END:VALARM
END:VEVENT
END:VCALENDAR