BEGIN:VCALENDAR
VERSION:2.0
PRODID:-//Stratis iCal API//FR
CALSCALE:GREGORIAN
X-WR-CALNAME:Les sentiers de l’histoire du Parc de Vaugrenier
BEGIN:VEVENT
UID:event-3082
SUMMARY:Les sentiers de l’histoire du Parc de Vaugrenier
DESCRIPTION:Fréquenté sans doute depuis l’époque hellénistique selon les données anciennes  le site de Vaugrenier est mieux connu pour l’époque antique sur laquelle des fouilles ont livré de précieuses informations. En témoignent encore aujourd'hui les vestiges d’un temple romain et le tracé de la voie romaine qui passait devant. Théâtre possible d’une célèbre bataille lors de la guerre civile de 69  c’est de ce secteur que provient le célèbre « trophée » de la Brague. Le parc de Vaugrenier  c'est aussi l’histoire d’un vaste domaine agricole lié au château de Vaugrenier bâti au XVIe s.    Animation réalisée par la Cercle d'Histoire et d'Archéologie des Alpes-Maritimes.
DTSTAMP:20250804T144743Z
DTSTART:20251109T090000Z
DTEND:20251109T150000Z
STATUS:CONFIRMED
SEQUENCE:5
BEGIN:VALARM
TRIGGER:-PT30M
DESCRIPTION:Les sentiers de l’histoire du Parc de Vaugrenier
ACTION:DISPLAY
END:VALARM
END:VEVENT
END:VCALENDAR