BEGIN:VCALENDAR
VERSION:2.0
PRODID:-//Stratis iCal API//FR
CALSCALE:GREGORIAN
X-WR-CALNAME:Pas besoin de feuilles pour reconnaître nos arbres
BEGIN:VEVENT
UID:event-3170
SUMMARY:Pas besoin de feuilles pour reconnaître nos arbres
DESCRIPTION:Le parc de Vaugrenier possède des milieux très différents  et donc une multitude d’espèces végétale. Au cours d’une balade  nous découvrirons leurs spécificités à l’aide de divers ateliers ludiques  et plus particulièrement la reconnaissance des bourgeons.    Animation réalisée par Planètes Sciences Méditerranée.
DTSTAMP:20251217T132943Z
DTSTART:20260220T230000Z
DTEND:20260220T230000Z
STATUS:CONFIRMED
SEQUENCE:5
BEGIN:VALARM
TRIGGER:-PT30M
DESCRIPTION:Pas besoin de feuilles pour reconnaître nos arbres
ACTION:DISPLAY
END:VALARM
END:VEVENT
END:VCALENDAR