BEGIN:VCALENDAR
VERSION:2.0
PRODID:-//Stratis iCal API//FR
CALSCALE:GREGORIAN
X-WR-CALNAME:Le Secret du Professeur Thrax : escape Game nature
BEGIN:VEVENT
UID:event-3190
SUMMARY:Le Secret du Professeur Thrax : escape Game nature
DESCRIPTION:Un savant excentrique  le Professeur Thrax  a mis au point un virus capable d’effacer toute vie animale et végétale sur terre. Avant de disparaître  il a caché son journal et la recette de l’antidote dans la nature. Les participants devront retrouver ces secrets pour sauver la biodiversité… et peut-être en apprendre plus sur les merveilles qui les entourent.    Animation réalisée par le Département des Alpes-Maritimes.
DTSTAMP:20251219T142408Z
DTSTART:20260224T230000Z
DTEND:20260224T230000Z
STATUS:CONFIRMED
SEQUENCE:4
BEGIN:VALARM
TRIGGER:-PT30M
DESCRIPTION:Le Secret du Professeur Thrax : escape Game nature
ACTION:DISPLAY
END:VALARM
END:VEVENT
END:VCALENDAR