BEGIN:VCALENDAR
VERSION:2.0
PRODID:-//Stratis iCal API//FR
CALSCALE:GREGORIAN
X-WR-CALNAME:La nature au cœur du volcan
BEGIN:VEVENT
UID:event-3222
SUMMARY:La nature au cœur du volcan
DESCRIPTION:Les paysages de l’Esterel ont gardé les traces de l’activité volcanique qui a façonné ces lieux. Quelle végétation a colonisé ce massif  et quelle faune y vie ? Notre balade naturaliste nous mènera sur le bord de la caldera de l’ancien volcan de Maure Viel  ce qui nous permettra une petite découverte géologique du site.    Animation réalisée par Planète Sciences Méditerranée.
DTSTAMP:20260114T170425Z
DTSTART:20260328T090000Z
DTEND:20260328T150000Z
STATUS:CONFIRMED
SEQUENCE:4
BEGIN:VALARM
TRIGGER:-PT30M
DESCRIPTION:La nature au cœur du volcan
ACTION:DISPLAY
END:VALARM
END:VEVENT
END:VCALENDAR